BEGIN:VCALENDAR
VERSION:2.0
PRODID:-//ExpressionEngine Easy iCalendar plugin//NONSGML v2.0.1//EN
X-WR-TIMEZONE:America/Chicago
X-WR-CALNAME:Upcoming Auctions
BEGIN:VEVENT
UID:148273
DTSTAMP:20251125T090000
DTSTART:20251125T090000
DTEND:20251202T170000
SUMMARY:Omaha Aircraft Sales 4th Quarter Auction
LOCATION:{location}
DESCRIPTION:Brian\, Joel and the crew at Omaha Aircraft Sales in cooperat
 ion with Grady Auctions & Realty\, Inc have put some of the n
 icest aircraft in the Great Plains and the Delta together fo
 r this auction. This will be a quarterly auction beginning 2
 026.  
URL:https://www.gradyauctions.com/auctions/detail/bw148273
SEQUENCE:1
END:VEVENT
END:VCALENDAR