BEGIN:VCALENDAR
VERSION:2.0
PRODID:-//ExpressionEngine Easy iCalendar plugin//NONSGML v2.0.1//EN
X-WR-TIMEZONE:America/Chicago
X-WR-CALNAME:Upcoming Auctions
BEGIN:VEVENT
UID:148128
DTSTAMP:20251101T100000
DTSTART:20251101T100000
DTEND:20251101T110000
SUMMARY:City of Jonesboro Surplus Assets
LOCATION:{location}
DESCRIPTION:Surplus and excess assets to the City of Jonesboro\, Arkansas
 . This has become a anticipated auction every other year in 
 NE Arkansas and this one promises to be no different. From S
 mall to LARGE it will be in this auction.
URL:https://www.gradyauctions.com/auctions/detail/bw148128
SEQUENCE:1
END:VEVENT
END:VCALENDAR