BEGIN:VCALENDAR
VERSION:2.0
PRODID:-//ExpressionEngine Easy iCalendar plugin//NONSGML v2.0.1//EN
X-WR-TIMEZONE:America/Chicago
X-WR-CALNAME:Upcoming Auctions
BEGIN:VEVENT
UID:132217
DTSTAMP:20250219T120000
DTSTART:20250219T120000
DTEND:20250226T170000
SUMMARY:Empty Pockets Flying Service Retirement Auction
LOCATION:{location}
DESCRIPTION:Lindsay is making operational changes and will be selling th
 e assets of Empty Pockets Flying Service including Aircraft
 \, Auger Trucks\, Water Trucks and Water Trailers\, Aircraft Sp
 ares\, Support Equipment\, Shop equipment and other items. Auc
 tion location will be at the Flying Service 2.5 miles NE of 
 Wilson\, Arkansas. We should have the complete catalog online
  by January 23\, 2025.
URL:https://www.gradyauctions.com/auctions/detail/bw132217
SEQUENCE:1
END:VEVENT
END:VCALENDAR